BEGIN:VCALENDAR
VERSION:2.0
PRODID:-//The County of Essex, New Jersey - ECPv6.15.18//NONSGML v1.0//EN
CALSCALE:GREGORIAN
METHOD:PUBLISH
X-WR-CALNAME:The County of Essex, New Jersey
X-ORIGINAL-URL:https://essexcountynj.org
X-WR-CALDESC:Events for The County of Essex, New Jersey
REFRESH-INTERVAL;VALUE=DURATION:PT1H
X-Robots-Tag:noindex
X-PUBLISHED-TTL:PT1H
BEGIN:VTIMEZONE
TZID:America/New_York
BEGIN:DAYLIGHT
TZOFFSETFROM:-0500
TZOFFSETTO:-0400
TZNAME:EDT
DTSTART:20250309T070000
END:DAYLIGHT
BEGIN:STANDARD
TZOFFSETFROM:-0400
TZOFFSETTO:-0500
TZNAME:EST
DTSTART:20251102T060000
END:STANDARD
BEGIN:DAYLIGHT
TZOFFSETFROM:-0500
TZOFFSETTO:-0400
TZNAME:EDT
DTSTART:20260308T070000
END:DAYLIGHT
BEGIN:STANDARD
TZOFFSETFROM:-0400
TZOFFSETTO:-0500
TZNAME:EST
DTSTART:20261101T060000
END:STANDARD
BEGIN:DAYLIGHT
TZOFFSETFROM:-0500
TZOFFSETTO:-0400
TZNAME:EDT
DTSTART:20270314T070000
END:DAYLIGHT
BEGIN:STANDARD
TZOFFSETFROM:-0400
TZOFFSETTO:-0500
TZNAME:EST
DTSTART:20271107T060000
END:STANDARD
END:VTIMEZONE
BEGIN:VEVENT
DTSTART;TZID=America/New_York:20260402T090000
DTEND;TZID=America/New_York:20260402T130000
DTSTAMP:20260423T071255
CREATED:20260312T145022Z
LAST-MODIFIED:20260312T145708Z
UID:10000418-1775120400-1775134800@essexcountynj.org
SUMMARY:Essex County Spring Food Distribution Event
DESCRIPTION:
URL:https://essexcountynj.org/event/17628/
ATTACH;FMTTYPE=image/png:https://essexcountynj.org/wp-content/uploads/2026/03/Spring-Distribution-English-1.png
END:VEVENT
BEGIN:VEVENT
DTSTART;TZID=America/New_York:20260404T080000
DTEND;TZID=America/New_York:20260419T170000
DTSTAMP:20260423T071255
CREATED:20260302T195232Z
LAST-MODIFIED:20260309T124537Z
UID:10000411-1775289600-1776618000@essexcountynj.org
SUMMARY:Essex County Cherry Blossom Festival
DESCRIPTION:
URL:https://essexcountynj.org/event/essex-county-cherry-blossom-festival/
ATTACH;FMTTYPE=image/png:https://essexcountynj.org/wp-content/uploads/2026/03/Screenshot-2026-03-02-134951.png
END:VEVENT
BEGIN:VEVENT
DTSTART;TZID=America/New_York:20260413T080000
DTEND;TZID=America/New_York:20260425T170000
DTSTAMP:20260423T071255
CREATED:20260413T165022Z
LAST-MODIFIED:20260413T165022Z
UID:10000423-1776067200-1777136400@essexcountynj.org
SUMMARY:Essex County Earth Day: April 25
DESCRIPTION:715 EARTH DAY 2026 flyer v3-PRINT
URL:https://essexcountynj.org/event/essex-county-earth-day-april-25/
ATTACH;FMTTYPE=application/pdf:https://essexcountynj.org/wp-content/uploads/2026/04/715-EARTH-DAY-2026-flyer-v3-PRINT-1.pdf
END:VEVENT
BEGIN:VEVENT
DTSTART;TZID=America/New_York:20260418T090000
DTEND;TZID=America/New_York:20260418T110000
DTSTAMP:20260423T071255
CREATED:20260218T142411Z
LAST-MODIFIED:20260218T142515Z
UID:10000407-1776502800-1776510000@essexcountynj.org
SUMMARY:Essex County Cherry Blossom One-Mile Fun Run/Walk
DESCRIPTION:2026 fun run registration
URL:https://essexcountynj.org/event/essex-county-cherry-blossom-one-mile-fun-run-walk/
ATTACH;FMTTYPE=image/png:https://essexcountynj.org/wp-content/uploads/2026/02/Screenshot-2026-02-18-092449.png
END:VEVENT
BEGIN:VEVENT
DTSTART;TZID=America/New_York:20260427T090000
DTEND;TZID=America/New_York:20260427T120000
DTSTAMP:20260423T071255
CREATED:20260421T182152Z
LAST-MODIFIED:20260421T182152Z
UID:10000424-1777280400-1777291200@essexcountynj.org
SUMMARY:Vantage Point Job Opportunities
DESCRIPTION:
URL:https://essexcountynj.org/event/vantage-point-job-opportunities/
ATTACH;FMTTYPE=image/png:https://essexcountynj.org/wp-content/uploads/2026/04/Screenshot-2026-04-21-141912.png
END:VEVENT
BEGIN:VEVENT
DTSTART;TZID=America/New_York:20260427T100000
DTEND;TZID=America/New_York:20260427T120000
DTSTAMP:20260423T071255
CREATED:20260421T182327Z
LAST-MODIFIED:20260421T182327Z
UID:10000425-1777284000-1777291200@essexcountynj.org
SUMMARY:Technician Advanced Program Information Session
DESCRIPTION:
URL:https://essexcountynj.org/event/technician-advanced-program-information-session/
ATTACH;FMTTYPE=image/png:https://essexcountynj.org/wp-content/uploads/2026/04/Screenshot-2026-04-21-141901.png
END:VEVENT
BEGIN:VEVENT
DTSTART;TZID=America/New_York:20260502T080000
DTEND;TZID=America/New_York:20260502T153000
DTSTAMP:20260423T071255
CREATED:20260305T211528Z
LAST-MODIFIED:20260309T124527Z
UID:10000413-1777708800-1777735800@essexcountynj.org
SUMMARY:Essex County's Recycling Day: Household Hazardous Waste
DESCRIPTION:
URL:https://essexcountynj.org/event/essex-countys-recycling-day-household-hazardous-waste/
ATTACH;FMTTYPE=image/png:https://essexcountynj.org/wp-content/uploads/2026/03/Accepted-Items.png
END:VEVENT
BEGIN:VEVENT
DTSTART;TZID=America/New_York:20260516T090000
DTEND;TZID=America/New_York:20260516T150000
DTSTAMP:20260423T071255
CREATED:20260305T211628Z
LAST-MODIFIED:20260309T124514Z
UID:10000414-1778922000-1778943600@essexcountynj.org
SUMMARY:Essex County's Recycling Day: Computer and Electronics
DESCRIPTION:
URL:https://essexcountynj.org/event/essex-countys-recycling-day-computer-and-electronics/
ATTACH;FMTTYPE=image/png:https://essexcountynj.org/wp-content/uploads/2026/03/computer-recycling.png
END:VEVENT
END:VCALENDAR